BEGIN:VCALENDAR
VERSION:2.0
PRODID:-//Word and Plant, LLC - ECPv6.15.20//NONSGML v1.0//EN
CALSCALE:GREGORIAN
METHOD:PUBLISH
X-ORIGINAL-URL:https://www.wordandplant.com
X-WR-CALDESC:Events for Word and Plant, LLC
REFRESH-INTERVAL;VALUE=DURATION:PT1H
X-Robots-Tag:noindex
X-PUBLISHED-TTL:PT1H
BEGIN:VTIMEZONE
TZID:America/New_York
BEGIN:DAYLIGHT
TZOFFSETFROM:-0500
TZOFFSETTO:-0400
TZNAME:EDT
DTSTART:20250309T070000
END:DAYLIGHT
BEGIN:STANDARD
TZOFFSETFROM:-0400
TZOFFSETTO:-0500
TZNAME:EST
DTSTART:20251102T060000
END:STANDARD
BEGIN:DAYLIGHT
TZOFFSETFROM:-0500
TZOFFSETTO:-0400
TZNAME:EDT
DTSTART:20260308T070000
END:DAYLIGHT
BEGIN:STANDARD
TZOFFSETFROM:-0400
TZOFFSETTO:-0500
TZNAME:EST
DTSTART:20261101T060000
END:STANDARD
BEGIN:DAYLIGHT
TZOFFSETFROM:-0500
TZOFFSETTO:-0400
TZNAME:EDT
DTSTART:20270314T070000
END:DAYLIGHT
BEGIN:STANDARD
TZOFFSETFROM:-0400
TZOFFSETTO:-0500
TZNAME:EST
DTSTART:20271107T060000
END:STANDARD
END:VTIMEZONE
BEGIN:VEVENT
DTSTART;TZID=America/New_York:20260207T090000
DTEND;TZID=America/New_York:20260207T120000
DTSTAMP:20260421T071934
CREATED:20250822T210425Z
LAST-MODIFIED:20260125T143209Z
UID:9053-1770454800-1770465600@www.wordandplant.com
SUMMARY:Chapel Hill Winter Craft Markets
DESCRIPTION:Want to gift your love(s) flowers that will last for years to come? I’ve got you covered! \nI’m bringing a winter collection overflowing with farm-grown magic— flower and leaf-printed socks\, luscious linen/cotton napkins for your table or your wall\, creative dried-flower arrangements in all shapes and sizes\, some gathered into itty bitty ceramic vases and teeny tiny pots; others woven into natural wood and mother-of-pearl frames and still more showing off their stuff on grapevine forms! All botanicals are grown right on my little Pittsboro farm. \nIf you’re craving color\, texture\, and a touch of the garden in the heart of winter\, come step into my little world of botanicals reimagined.🌿
URL:https://www.wordandplant.com/event/chapel-hill-winter-craft-markets/
LOCATION:Chapel Hill Farmers Market\, University Place mall at 201 S. Estes Drive\, Chapel Hill\, NC
CATEGORIES:Local Markets & Pop-Ups
ATTACH;FMTTYPE=image/jpeg:https://www.wordandplant.com/wp-content/uploads/2025/08/Meadow-Frame.jpeg
END:VEVENT
END:VCALENDAR